BEGIN:VCALENDAR
VERSION:2.0
PRODID:-//OccuPaws - ECPv6.15.20//NONSGML v1.0//EN
CALSCALE:GREGORIAN
METHOD:PUBLISH
X-ORIGINAL-URL:https://occupaws.org
X-WR-CALDESC:Events for OccuPaws
REFRESH-INTERVAL;VALUE=DURATION:PT1H
X-Robots-Tag:noindex
X-PUBLISHED-TTL:PT1H
BEGIN:VTIMEZONE
TZID:America/Chicago
BEGIN:DAYLIGHT
TZOFFSETFROM:-0600
TZOFFSETTO:-0500
TZNAME:CDT
DTSTART:20250309T080000
END:DAYLIGHT
BEGIN:STANDARD
TZOFFSETFROM:-0500
TZOFFSETTO:-0600
TZNAME:CST
DTSTART:20251102T070000
END:STANDARD
BEGIN:DAYLIGHT
TZOFFSETFROM:-0600
TZOFFSETTO:-0500
TZNAME:CDT
DTSTART:20260308T080000
END:DAYLIGHT
BEGIN:STANDARD
TZOFFSETFROM:-0500
TZOFFSETTO:-0600
TZNAME:CST
DTSTART:20261101T070000
END:STANDARD
BEGIN:DAYLIGHT
TZOFFSETFROM:-0600
TZOFFSETTO:-0500
TZNAME:CDT
DTSTART:20270314T080000
END:DAYLIGHT
BEGIN:STANDARD
TZOFFSETFROM:-0500
TZOFFSETTO:-0600
TZNAME:CST
DTSTART:20271107T070000
END:STANDARD
END:VTIMEZONE
BEGIN:VEVENT
DTSTART;TZID=America/Chicago:20260913T100000
DTEND;TZID=America/Chicago:20260913T180000
DTSTAMP:20260420T003857
CREATED:20251222T175437Z
LAST-MODIFIED:20251229T005519Z
UID:10000755-1789293600-1789322400@occupaws.org
SUMMARY:Volunteer - 10th Annual Puptoberfest
DESCRIPTION:Come enjoy a day for the dogs at Wisconsin Brewing in Verona & help support OccuPaws Guide Dogs. \n  \nPET DOGS WELCOME
URL:https://occupaws.org/event/volunteer-10th-annual-puptoberfest/
LOCATION:Wisconsin Brewing\, 1079 American Way\, Verona\, WI\, 53593\, United States
CATEGORIES:Fundraisers
ATTACH;FMTTYPE=application/pdf:https://occupaws.org/wp-content/uploads/2025/12/PuptoberFest-2026-8.5x11-PDF-1.pdf
END:VEVENT
BEGIN:VEVENT
DTSTART;TZID=America/Chicago:20260913T120000
DTEND;TZID=America/Chicago:20260913T170000
DTSTAMP:20260420T003857
CREATED:20251222T175026Z
LAST-MODIFIED:20251229T005439Z
UID:10000756-1789300800-1789318800@occupaws.org
SUMMARY:10th Annual Puptoberfest
DESCRIPTION:Come enjoy a day for the dogs at Wisconsin Brewing in Verona & help support OccuPaws Guide Dogs. \nFREE Admission to this dog friendly event! \nSocial and leashed dogs are very welcome. \nLive Music from the Red Hot Horn Dawgs!\nBring the whole family\, both canine and human! And you don’t need to worry if you don’t have a dog. There will be something for everyone. An amazing lunch will be available and of course great beer from Wisconsin Brewing! \nWe will have nail trims and microchipping available. \nShop from our local vendors & crafters too! Tons of raffle baskets up for grabs. \nSchedule of events to come!
URL:https://occupaws.org/event/10th-annual-puptoberfest/
LOCATION:Wisconsin Brewing\, 1079 American Way\, Verona\, WI\, 53593\, United States
CATEGORIES:Public Events
ATTACH;FMTTYPE=application/pdf:https://occupaws.org/wp-content/uploads/2025/12/PuptoberFest-2026-8.5x11-PDF.pdf
END:VEVENT
END:VCALENDAR