BEGIN:VCALENDAR
VERSION:2.0
PRODID:-//OccuPaws - ECPv6.15.20//NONSGML v1.0//EN
CALSCALE:GREGORIAN
METHOD:PUBLISH
X-WR-CALNAME:OccuPaws
X-ORIGINAL-URL:https://occupaws.org
X-WR-CALDESC:Events for OccuPaws
REFRESH-INTERVAL;VALUE=DURATION:PT1H
X-Robots-Tag:noindex
X-PUBLISHED-TTL:PT1H
BEGIN:VTIMEZONE
TZID:America/Chicago
BEGIN:DAYLIGHT
TZOFFSETFROM:-0600
TZOFFSETTO:-0500
TZNAME:CDT
DTSTART:20250309T080000
END:DAYLIGHT
BEGIN:STANDARD
TZOFFSETFROM:-0500
TZOFFSETTO:-0600
TZNAME:CST
DTSTART:20251102T070000
END:STANDARD
BEGIN:DAYLIGHT
TZOFFSETFROM:-0600
TZOFFSETTO:-0500
TZNAME:CDT
DTSTART:20260308T080000
END:DAYLIGHT
BEGIN:STANDARD
TZOFFSETFROM:-0500
TZOFFSETTO:-0600
TZNAME:CST
DTSTART:20261101T070000
END:STANDARD
BEGIN:DAYLIGHT
TZOFFSETFROM:-0600
TZOFFSETTO:-0500
TZNAME:CDT
DTSTART:20270314T080000
END:DAYLIGHT
BEGIN:STANDARD
TZOFFSETFROM:-0500
TZOFFSETTO:-0600
TZNAME:CST
DTSTART:20271107T070000
END:STANDARD
END:VTIMEZONE
BEGIN:VEVENT
DTSTART;TZID=America/Chicago:20260524T100000
DTEND;TZID=America/Chicago:20260524T150000
DTSTAMP:20260421T082826
CREATED:20260218T154940Z
LAST-MODIFIED:20260306T152115Z
UID:10000776-1779616800-1779634800@occupaws.org
SUMMARY:10th Annual Outdoor Summer Craft\, Vendor & Flea Market
DESCRIPTION:Come stroll through peaceful Habermann Park (180 Fair Street\, Lodi) at this annual FREE event in Lodi\, Wisconsin\, while browsing from more than 50 unique vendors\, crafters & local businesses.\nSupport OccuPaws Guide Dogs and our mission of providing guide dogs for free to local visually impaired recipients in Wisconsin\, Minnesota\, and Illinois.\nGrab some great food at the Los Hernandez food truck parked in front of the park and take a chance at our raffle with 100% of the proceeds benefiting OccuPaws!
URL:https://occupaws.org/event/10th-annual-outdoor-summer-craft-vendor-flea-market/
LOCATION:Habermann Park\, 180 Fair St\, Lodi\, WI\, 53555\, United States
CATEGORIES:Public Events
ATTACH;FMTTYPE=image/png:https://occupaws.org/wp-content/uploads/2026/02/10th-Annual-Outdoor-Summer-Market-2026.png
END:VEVENT
BEGIN:VEVENT
DTSTART;TZID=America/Chicago:20260524T100000
DTEND;TZID=America/Chicago:20260524T150000
DTSTAMP:20260421T082826
CREATED:20260218T155623Z
LAST-MODIFIED:20260306T152110Z
UID:10000777-1779616800-1779634800@occupaws.org
SUMMARY:Volunteer - 10th Annual Outdoor Summer Craft\, Vendor & Flea Market
DESCRIPTION:Come stroll through peaceful Habermann Park (180 Fair Street\, Lodi) at this annual FREE event in Lodi\, Wisconsin\, while browsing from more than 50 unique vendors\, crafters & local businesses.\nSupport OccuPaws Guide Dogs and our mission of providing guide dogs for free to local visually impaired recipients in Wisconsin\, Minnesota\, and Illinois.\nGrab some great food at the Los Hernandez food truck parked in front of the park and take a chance at our raffle with 100% of the proceeds benefiting OccuPaws!
URL:https://occupaws.org/event/volunteer-10th-annual-outdoor-summer-craft-vendor-flea-market/
LOCATION:Habermann Park\, 180 Fair St\, Lodi\, WI\, 53555\, United States
CATEGORIES:Fundraisers,Member Events
ATTACH;FMTTYPE=image/png:https://occupaws.org/wp-content/uploads/2026/02/10th-Annual-Outdoor-Summer-Market-2026.png
END:VEVENT
END:VCALENDAR